BEGIN:VCALENDAR
VERSION:2.0
PRODID:-//pretix//Ticketshop_-_Kulturbahnhof_Hiltrup_e._V.//
BEGIN:VTIMEZONE
TZID:Europe/Berlin
BEGIN:STANDARD
DTSTART:20001029T040000
RRULE:FREQ=YEARLY;BYDAY=-1SU;BYMONTH=10
TZNAME:CET
TZOFFSETFROM:+0200
TZOFFSETTO:+0100
END:STANDARD
BEGIN:DAYLIGHT
DTSTART:20000326T030000
RRULE:FREQ=YEARLY;BYDAY=-1SU;BYMONTH=3
TZNAME:CEST
TZOFFSETFROM:+0100
TZOFFSETTO:+0200
END:DAYLIGHT
END:VTIMEZONE
BEGIN:VEVENT
UID:pretix-kulturbahnhof-hiltrup-geschenkgutschein-0@ticketshop.kulturbahnh
 of-hiltrup.de
DTSTART;VALUE=DATE:20260301
DTEND;VALUE=DATE:20260302
DESCRIPTION:Tickets: https://ticketshop.kulturbahnhof-hiltrup.de/geschenkgu
 tschein/\nEinlass: 01.01.2023 00:00\nVeranstalter: Kulturbahnhof Hiltrup e
 .V.
DTSTAMP:20260424T082606Z
LOCATION:Kulturbahnhof Hiltrup\, Bergiusstraße 15\, 48165 Münster
SUMMARY:Geschenkgutscheine 🎁
END:VEVENT
BEGIN:VEVENT
UID:pretix-kulturbahnhof-hiltrup-nhset-0@ticketshop.kulturbahnhof-hiltrup.d
 e
DTSTART;TZID=Europe/Berlin:20260326T193000
DTEND;TZID=Europe/Berlin:20260326T203000
DESCRIPTION:Tickets: https://ticketshop.kulturbahnhof-hiltrup.de/nhset/\nEi
 nlass: 26.03.2026 19:00\nVeranstalter: Kulturbahnhof Hiltrup e.V.
DTSTAMP:20260424T082606Z
LOCATION:Kulturbahnhof Hiltrup\, Bergiusstraße 15\, 48165 Münster
SUMMARY:Mental-Magisches-Kabarett: „NIMBUS – Glaub doch was ich will“
END:VEVENT
BEGIN:VEVENT
UID:pretix-kulturbahnhof-hiltrup-uuqbn-0@ticketshop.kulturbahnhof-hiltrup.d
 e
DTSTART;TZID=Europe/Berlin:20260328T193000
DTEND;TZID=Europe/Berlin:20260328T203000
DESCRIPTION:Tickets: https://ticketshop.kulturbahnhof-hiltrup.de/uuqbn/\nEi
 nlass: 28.03.2026 19:00\nVeranstalter: Kulturbahnhof Hiltrup e.V.
DTSTAMP:20260424T082606Z
LOCATION:Kulturbahnhof Hiltrup\, Bergiusstraße 15\, 48165 Münster
SUMMARY:Premiere: Theaterlabor: "Die Agentin"
END:VEVENT
BEGIN:VEVENT
UID:pretix-kulturbahnhof-hiltrup-p8dg8-0@ticketshop.kulturbahnhof-hiltrup.d
 e
DTSTART;TZID=Europe/Berlin:20260330T093000
DTEND;TZID=Europe/Berlin:20260330T103000
DESCRIPTION:Tickets: https://ticketshop.kulturbahnhof-hiltrup.de/p8dg8/\nEi
 nlass: 30.03.2026 09:30\nVeranstalter: Kulturbahnhof Hiltrup e.V.
DTSTAMP:20260424T082606Z
LOCATION:Kulturbahnhof Hiltrup\, Bergiusstraße 15\, 48165 Münster
SUMMARY:Theaterferienkurs für Kinder von 8 bis 12 Jahren
END:VEVENT
BEGIN:VEVENT
UID:pretix-kulturbahnhof-hiltrup-lvrtx-0@ticketshop.kulturbahnhof-hiltrup.d
 e
DTSTART;TZID=Europe/Berlin:20260412T190000
DTEND;TZID=Europe/Berlin:20260412T200000
DESCRIPTION:Tickets: https://ticketshop.kulturbahnhof-hiltrup.de/lvrtx/\nEi
 nlass: 12.04.2026 18:30\nVeranstalter: Kulturbahnhof Hiltrup e.V.
DTSTAMP:20260424T082606Z
LOCATION:Kulturbahnhof Hiltrup\, Bergiusstraße 15\, 48165 Münster
SUMMARY:Kabarett Schulte-Brömmelkamp – „Fundiertes Halbwissen“
END:VEVENT
BEGIN:VEVENT
UID:pretix-kulturbahnhof-hiltrup-3r9mk-0@ticketshop.kulturbahnhof-hiltrup.d
 e
DTSTART;TZID=Europe/Berlin:20260415T193000
DTEND;TZID=Europe/Berlin:20260415T203000
DESCRIPTION:Tickets: https://ticketshop.kulturbahnhof-hiltrup.de/3r9mk/\nEi
 nlass: 15.04.2026 19:00\nVeranstalter: Kulturbahnhof Hiltrup e.V.
DTSTAMP:20260424T082606Z
LOCATION:Kulturbahnhof Hiltrup\, Bergiusstraße 15\, 48165 Münster
SUMMARY:Film ab - Filmreihe mit Diane Keaton: "Baby-Boom - Eine schöne Bes
 cherung"
END:VEVENT
BEGIN:VEVENT
UID:pretix-kulturbahnhof-hiltrup-ljrhx-0@ticketshop.kulturbahnhof-hiltrup.d
 e
DTSTART;TZID=Europe/Berlin:20260417T193000
DTEND;TZID=Europe/Berlin:20260417T203000
DESCRIPTION:Tickets: https://ticketshop.kulturbahnhof-hiltrup.de/ljrhx/\nEi
 nlass: 17.04.2026 19:00\nVeranstalter: Kulturbahnhof Hiltrup e.V.
DTSTAMP:20260424T082606Z
LOCATION:Kulturbahnhof Hiltrup\, Bergiusstraße 15\, 48165 Münster
SUMMARY:Kabarett-Solo „Hirn in Teilzeit“ mit Thomas Philipzen
END:VEVENT
BEGIN:VEVENT
UID:pretix-kulturbahnhof-hiltrup-bpsnq-0@ticketshop.kulturbahnhof-hiltrup.d
 e
DTSTART;TZID=Europe/Berlin:20260418T193000
DTEND;TZID=Europe/Berlin:20260418T203000
DESCRIPTION:Tickets: https://ticketshop.kulturbahnhof-hiltrup.de/bpsnq/\nEi
 nlass: 18.04.2026 19:00\nVeranstalter: Kulturbahnhof Hiltrup e.V.
DTSTAMP:20260424T082606Z
LOCATION:Kulturbahnhof Hiltrup\, Bergiusstraße 15\, 48165 Münster
SUMMARY:Konzert: "Duo Lagerfeld" – Jazz Sound und Geschichten
END:VEVENT
BEGIN:VEVENT
UID:pretix-kulturbahnhof-hiltrup-xtmjj-0@ticketshop.kulturbahnhof-hiltrup.d
 e
DTSTART;TZID=Europe/Berlin:20260419T170000
DTEND;TZID=Europe/Berlin:20260419T180000
DESCRIPTION:Tickets: https://ticketshop.kulturbahnhof-hiltrup.de/xtmjj/\nEi
 nlass: 19.04.2026 16:30\nVeranstalter: Kulturbahnhof Hiltrup e.V.
DTSTAMP:20260424T082606Z
LOCATION:Kulturbahnhof Hiltrup\, Bergiusstraße 15\, 48165 Münster
SUMMARY:"Hiltruper Hordenschallern“ - Songs und Evergreens
END:VEVENT
BEGIN:VEVENT
UID:pretix-kulturbahnhof-hiltrup-pyerj-0@ticketshop.kulturbahnhof-hiltrup.d
 e
DTSTART;TZID=Europe/Berlin:20260422T193000
DTEND;TZID=Europe/Berlin:20260422T203000
DESCRIPTION:Tickets: https://ticketshop.kulturbahnhof-hiltrup.de/pyerj/\nEi
 nlass: 22.04.2026 19:00\nVeranstalter: Kulturbahnhof Hiltrup e.V.
DTSTAMP:20260424T082606Z
LOCATION:Kulturbahnhof Hiltrup\, Bergiusstraße 15\, 48165 Münster
SUMMARY:Kabarett-Solo „Hirn in Teilzeit“ mit Thomas Philipzen
END:VEVENT
BEGIN:VEVENT
UID:pretix-kulturbahnhof-hiltrup-k3lkj-0@ticketshop.kulturbahnhof-hiltrup.d
 e
DTSTART;TZID=Europe/Berlin:20260428T200000
DTEND;TZID=Europe/Berlin:20260428T210000
DESCRIPTION:Tickets: https://ticketshop.kulturbahnhof-hiltrup.de/k3lkj/\nEi
 nlass: 28.04.2026 19:30\nVeranstalter: Kulturbahnhof Hiltrup e.V.
DTSTAMP:20260424T082606Z
LOCATION:Kulturbahnhof Hiltrup\, Bergiusstraße 15\, 48165 Münster
SUMMARY:Konzert: "Christian Bleiming Boogie Trio"
END:VEVENT
BEGIN:VEVENT
UID:pretix-kulturbahnhof-hiltrup-vghc3-0@ticketshop.kulturbahnhof-hiltrup.d
 e
DTSTART;TZID=Europe/Berlin:20260430T200000
DTEND;TZID=Europe/Berlin:20260430T210000
DESCRIPTION:Tickets: https://ticketshop.kulturbahnhof-hiltrup.de/vghc3/\nEi
 nlass: 30.04.2026 19:30\nVeranstalter: Kulturbahnhof Hiltrup e.V.
DTSTAMP:20260424T082606Z
LOCATION:Kulturbahnhof Hiltrup\, Bergiusstraße 15\, 48165 Münster
SUMMARY:"Tanz in den Mai"
END:VEVENT
BEGIN:VEVENT
UID:pretix-kulturbahnhof-hiltrup-caxvh-0@ticketshop.kulturbahnhof-hiltrup.d
 e
DTSTART;TZID=Europe/Berlin:20260503T150000
DTEND;TZID=Europe/Berlin:20260503T160000
DESCRIPTION:Tickets: https://ticketshop.kulturbahnhof-hiltrup.de/caxvh/\nEi
 nlass: 03.05.2026 14:30\nVeranstalter: Kulturbahnhof Hiltrup e.V.
DTSTAMP:20260424T082606Z
LOCATION:Kulturbahnhof Hiltrup\, Bergiusstraße 15\, 48165 Münster
SUMMARY:Samba Workshop mit Vinicius: "Sonne Samba Spaß"
END:VEVENT
BEGIN:VEVENT
UID:pretix-kulturbahnhof-hiltrup-x3xyt-0@ticketshop.kulturbahnhof-hiltrup.d
 e
DTSTART;TZID=Europe/Berlin:20260508T200000
DTEND;TZID=Europe/Berlin:20260508T210000
DESCRIPTION:Tickets: https://ticketshop.kulturbahnhof-hiltrup.de/x3xyt/\nEi
 nlass: 08.05.2026 19:30\nVeranstalter: Kulturbahnhof Hiltrup e.V.
DTSTAMP:20260424T082606Z
LOCATION:Kulturbahnhof Hiltrup\, Bergiusstraße 15\, 48165 Münster
SUMMARY:Konzert: Phil Seeboth & Band
END:VEVENT
BEGIN:VEVENT
UID:pretix-kulturbahnhof-hiltrup-t8bxg-0@ticketshop.kulturbahnhof-hiltrup.d
 e
DTSTART;TZID=Europe/Berlin:20260513T193000
DTEND;TZID=Europe/Berlin:20260513T203000
DESCRIPTION:Tickets: https://ticketshop.kulturbahnhof-hiltrup.de/t8bxg/\nEi
 nlass: 13.05.2026 19:00\nVeranstalter: Kulturbahnhof Hiltrup e.V.
DTSTAMP:20260424T082606Z
LOCATION:Kulturbahnhof Hiltrup\, Bergiusstraße 15\, 48165 Münster
SUMMARY:FILM-AB Filmreihe mit Diane Keaton - "Manhattan Murder Mystery“
END:VEVENT
BEGIN:VEVENT
UID:pretix-kulturbahnhof-hiltrup-sfq3j-0@ticketshop.kulturbahnhof-hiltrup.d
 e
DTSTART;TZID=Europe/Berlin:20260517T170000
DTEND;TZID=Europe/Berlin:20260517T180000
DESCRIPTION:Tickets: https://ticketshop.kulturbahnhof-hiltrup.de/sfq3j/\nEi
 nlass: 17.05.2026 16:30\nVeranstalter: Kulturbahnhof Hiltrup e.V.
DTSTAMP:20260424T082606Z
LOCATION:Kulturbahnhof Hiltrup\, Bergiusstraße 15\, 48165 Münster
SUMMARY:Kammerkonzert mit Carlos Ferrer & Naho Suzuki
END:VEVENT
BEGIN:VEVENT
UID:pretix-kulturbahnhof-hiltrup-bmprf-0@ticketshop.kulturbahnhof-hiltrup.d
 e
DTSTART;TZID=Europe/Berlin:20260527T193000
DTEND;TZID=Europe/Berlin:20260527T203000
DESCRIPTION:Tickets: https://ticketshop.kulturbahnhof-hiltrup.de/bmprf/\nEi
 nlass: 27.05.2026 19:00\nVeranstalter: Kulturbahnhof Hiltrup e.V.
DTSTAMP:20260424T082606Z
LOCATION:Kulturbahnhof Hiltrup\, Bergiusstraße 15\, 48165 Münster
SUMMARY:Kabarett: „Da lacht der Fußball – WM-Spezial 2026“
END:VEVENT
BEGIN:VEVENT
UID:pretix-kulturbahnhof-hiltrup-wndrj-0@ticketshop.kulturbahnhof-hiltrup.d
 e
DTSTART;TZID=Europe/Berlin:20260531T170000
DTEND;TZID=Europe/Berlin:20260531T180000
DESCRIPTION:Tickets: https://ticketshop.kulturbahnhof-hiltrup.de/wndrj/\nEi
 nlass: 31.05.2026 16:30\nVeranstalter: Kulturbahnhof Hiltrup e.V.
DTSTAMP:20260424T082606Z
LOCATION:Kulturbahnhof Hiltrup\, Bergiusstraße 15\, 48165 Münster
SUMMARY:„M(e)y Songs im Mai“ - Ein Liederabend mit Markus Langenhorst z
 wischen Erinnerung\, Humor und Haltung
END:VEVENT
BEGIN:VEVENT
UID:pretix-kulturbahnhof-hiltrup-l8ygs-0@ticketshop.kulturbahnhof-hiltrup.d
 e
DTSTART;TZID=Europe/Berlin:20260610T193000
DTEND;TZID=Europe/Berlin:20260610T203000
DESCRIPTION:Tickets: https://ticketshop.kulturbahnhof-hiltrup.de/l8ygs/\nEi
 nlass: 10.06.2026 19:00\nVeranstalter: Kulturbahnhof Hiltrup e.V.
DTSTAMP:20260424T082606Z
LOCATION:Kulturbahnhof Hiltrup\, Bergiusstraße 15\, 48165 Münster
SUMMARY:Kabarett: Ich hatte mich jünger in Erinnerung
END:VEVENT
BEGIN:VEVENT
UID:pretix-kulturbahnhof-hiltrup-xqgfc-0@ticketshop.kulturbahnhof-hiltrup.d
 e
DTSTART;TZID=Europe/Berlin:20260617T193000
DTEND;TZID=Europe/Berlin:20260617T203000
DESCRIPTION:Tickets: https://ticketshop.kulturbahnhof-hiltrup.de/xqgfc/\nEi
 nlass: 17.06.2026 19:00\nVeranstalter: Kulturbahnhof Hiltrup e.V.
DTSTAMP:20260424T082606Z
LOCATION:Kulturbahnhof Hiltrup\, Bergiusstraße 15\, 48165 Münster
SUMMARY:"Film ab" - Filmreihe mit Diane Keaton - „Was das Herz begehrt“
END:VEVENT
BEGIN:VEVENT
UID:pretix-kulturbahnhof-hiltrup-c3le9-0@ticketshop.kulturbahnhof-hiltrup.d
 e
DTSTART;TZID=Europe/Berlin:20260622T190000
DTEND;TZID=Europe/Berlin:20260622T200000
DESCRIPTION:Tickets: https://ticketshop.kulturbahnhof-hiltrup.de/c3le9/\nEi
 nlass: 22.06.2026 18:30\nVeranstalter: Kulturbahnhof Hiltrup e.V.
DTSTAMP:20260424T082606Z
LOCATION:Kulturbahnhof Hiltrup\, Bergiusstraße 15\, 48165 Münster
SUMMARY:hiltrup hautnah "Hiltruper Geschichten " - Sofa-Talk
END:VEVENT
BEGIN:VEVENT
UID:pretix-kulturbahnhof-hiltrup-hlfjg-0@ticketshop.kulturbahnhof-hiltrup.d
 e
DTSTART;TZID=Europe/Berlin:20260623T193000
DTEND;TZID=Europe/Berlin:20260623T203000
DESCRIPTION:Tickets: https://ticketshop.kulturbahnhof-hiltrup.de/hlfjg/\nEi
 nlass: 23.06.2026 19:00\nVeranstalter: Kulturbahnhof Hiltrup e.V.
DTSTAMP:20260424T082606Z
LOCATION:Kulturbahnhof Hiltrup\, Bergiusstraße 15\, 48165 Münster
SUMMARY:hiltrup hautnah "Hiltruper Aus-LESE"
END:VEVENT
BEGIN:VEVENT
UID:pretix-kulturbahnhof-hiltrup-rnk98-0@ticketshop.kulturbahnhof-hiltrup.d
 e
DTSTART;TZID=Europe/Berlin:20260624T193000
DTEND;TZID=Europe/Berlin:20260624T203000
DESCRIPTION:Tickets: https://ticketshop.kulturbahnhof-hiltrup.de/rnk98/\nEi
 nlass: 24.06.2026 19:00\nVeranstalter: Kulturbahnhof Hiltrup e.V.
DTSTAMP:20260424T082606Z
LOCATION:Kulturbahnhof Hiltrup\, Bergiusstraße 15\, 48165 Münster
SUMMARY:hiltrup hautnah Swingin Hiltrup - "BigNoise"
END:VEVENT
BEGIN:VEVENT
UID:pretix-kulturbahnhof-hiltrup-y8hkb-0@ticketshop.kulturbahnhof-hiltrup.d
 e
DTSTART;TZID=Europe/Berlin:20260625T193000
DTEND;TZID=Europe/Berlin:20260625T203000
DESCRIPTION:Tickets: https://ticketshop.kulturbahnhof-hiltrup.de/y8hkb/\nEi
 nlass: 25.06.2026 19:00\nVeranstalter: Kulturbahnhof Hiltrup e.V.
DTSTAMP:20260424T082606Z
LOCATION:Kulturbahnhof Hiltrup\, Bergiusstraße 15\, 48165 Münster
SUMMARY:hiltrup hautnah "So klingt Hiltrup!": Singer-Songwriter-Session
END:VEVENT
BEGIN:VEVENT
UID:pretix-kulturbahnhof-hiltrup-ebjnv-0@ticketshop.kulturbahnhof-hiltrup.d
 e
DTSTART;TZID=Europe/Berlin:20260626T160000
DTEND;TZID=Europe/Berlin:20260626T170000
DESCRIPTION:Tickets: https://ticketshop.kulturbahnhof-hiltrup.de/ebjnv/\nEi
 nlass: 26.06.2026 15:30\nVeranstalter: Kulturbahnhof Hiltrup e.V.
DTSTAMP:20260424T082606Z
LOCATION:Kulturbahnhof Hiltrup\, Bergiusstraße 15\, 48165 Münster
SUMMARY:hiltrup hautnah: Hiltrup macht mit: Trommel Workshop
END:VEVENT
BEGIN:VEVENT
UID:pretix-kulturbahnhof-hiltrup-xhffp-0@ticketshop.kulturbahnhof-hiltrup.d
 e
DTSTART;TZID=Europe/Berlin:20260626T190000
DTEND;TZID=Europe/Berlin:20260626T200000
DESCRIPTION:Tickets: https://ticketshop.kulturbahnhof-hiltrup.de/xhffp/\nEi
 nlass: 26.06.2026 18:30\nVeranstalter: Kulturbahnhof Hiltrup e.V.
DTSTAMP:20260424T082606Z
LOCATION:Kulturbahnhof Hiltrup\, Bergiusstraße 15\, 48165 Münster
SUMMARY:hiltrup hautnah: Hiltruper Hordenschallern
END:VEVENT
BEGIN:VEVENT
UID:pretix-kulturbahnhof-hiltrup-9byua-0@ticketshop.kulturbahnhof-hiltrup.d
 e
DTSTART;TZID=Europe/Berlin:20260701T200000
DTEND;TZID=Europe/Berlin:20260701T210000
DESCRIPTION:Tickets: https://ticketshop.kulturbahnhof-hiltrup.de/9byua/\nEi
 nlass: 01.07.2026 19:30\nVeranstalter: Kulturbahnhof Hiltrup e.V.
DTSTAMP:20260424T082606Z
LOCATION:Kulturbahnhof Hiltrup\, Bergiusstraße 15\, 48165 Münster
SUMMARY:Konzert: "Big Band der WSfM & Friends"
END:VEVENT
BEGIN:VEVENT
UID:pretix-kulturbahnhof-hiltrup-zstxp-0@ticketshop.kulturbahnhof-hiltrup.d
 e
DTSTART;TZID=Europe/Berlin:20260708T193000
DTEND;TZID=Europe/Berlin:20260708T203000
DESCRIPTION:Tickets: https://ticketshop.kulturbahnhof-hiltrup.de/zstxp/\nEi
 nlass: 08.07.2026 19:00\nVeranstalter: Kulturbahnhof Hiltrup e.V.
DTSTAMP:20260424T082606Z
LOCATION:Kulturbahnhof Hiltrup\, Bergiusstraße 15\, 48165 Münster
SUMMARY:Theater: "Meine tolle Scheidung"- Eine amüsant-satirische Komödie
END:VEVENT
BEGIN:VEVENT
UID:pretix-kulturbahnhof-hiltrup-ccf8k-0@ticketshop.kulturbahnhof-hiltrup.d
 e
DTSTART;TZID=Europe/Berlin:20260709T193000
DTEND;TZID=Europe/Berlin:20260709T203000
DESCRIPTION:Tickets: https://ticketshop.kulturbahnhof-hiltrup.de/ccf8k/\nEi
 nlass: 09.07.2026 19:00\nVeranstalter: Kulturbahnhof Hiltrup e.V.
DTSTAMP:20260424T082606Z
LOCATION:Kulturbahnhof Hiltrup\, Bergiusstraße 15\, 48165 Münster
SUMMARY:Konzert: "The Dandys"
END:VEVENT
BEGIN:VEVENT
UID:pretix-kulturbahnhof-hiltrup-j8q8q-0@ticketshop.kulturbahnhof-hiltrup.d
 e
DTSTART;TZID=Europe/Berlin:20260726T160000
DTEND;TZID=Europe/Berlin:20260726T170000
DESCRIPTION:Tickets: https://ticketshop.kulturbahnhof-hiltrup.de/j8q8q/\nEi
 nlass: 26.07.2026 15:30\nVeranstalter: Kulturbahnhof Hiltrup e.V.
DTSTAMP:20260424T082606Z
LOCATION:Kulturbahnhof Hiltrup\, Bergiusstraße 15\, 48165 Münster
SUMMARY:Literatur für Liebhaber: „Wilhelm Busch“
END:VEVENT
BEGIN:VEVENT
UID:pretix-kulturbahnhof-hiltrup-efmac-0@ticketshop.kulturbahnhof-hiltrup.d
 e
DTSTART;TZID=Europe/Berlin:20260801T200000
DTEND;TZID=Europe/Berlin:20260801T210000
DESCRIPTION:Tickets: https://ticketshop.kulturbahnhof-hiltrup.de/efmac/\nEi
 nlass: 01.08.2026 19:30\nVeranstalter: Kulturbahnhof Hiltrup e.V.
DTSTAMP:20260424T082606Z
LOCATION:Kulturbahnhof Hiltrup\, Bergiusstraße 15\, 48165 Münster
SUMMARY:"Line Out" mit Ossip\, Burn und Optik SW
END:VEVENT
BEGIN:VEVENT
UID:pretix-kulturbahnhof-hiltrup-mmsp8-0@ticketshop.kulturbahnhof-hiltrup.d
 e
DTSTART;TZID=Europe/Berlin:20260812T193000
DTEND;TZID=Europe/Berlin:20260812T203000
DESCRIPTION:Tickets: https://ticketshop.kulturbahnhof-hiltrup.de/mmsp8/\nEi
 nlass: 12.08.2026 19:00\nVeranstalter: Kulturbahnhof Hiltrup e.V.
DTSTAMP:20260424T082606Z
LOCATION:Kulturbahnhof Hiltrup\, Bergiusstraße 15\, 48165 Münster
SUMMARY:Poetry & Satire mit Adrian „Credo“ Scholz : „Emotionen“
END:VEVENT
END:VCALENDAR
